BEGIN:VCALENDAR
VERSION:2.0
PRODID:-//goRUN - ECPv5.8.1//NONSGML v1.0//EN
CALSCALE:GREGORIAN
METHOD:PUBLISH
X-WR-CALNAME:goRUN
X-ORIGINAL-URL:https://gorun.gr
X-WR-CALDESC:Events for goRUN
BEGIN:VTIMEZONE
TZID:Europe/Athens
BEGIN:DAYLIGHT
TZOFFSETFROM:+0200
TZOFFSETTO:+0300
TZNAME:EEST
DTSTART:20160327T010000
END:DAYLIGHT
BEGIN:STANDARD
TZOFFSETFROM:+0300
TZOFFSETTO:+0200
TZNAME:EET
DTSTART:20161030T010000
END:STANDARD
END:VTIMEZONE
BEGIN:VEVENT
DTSTART;VALUE=DATE:20160515
DTEND;VALUE=DATE:20160516
DTSTAMP:20260420T162626
CREATED:20160426T070415Z
LAST-MODIFIED:20160515T131016Z
UID:6145-1463270400-1463356799@gorun.gr
SUMMARY:3o Tihio Race
DESCRIPTION:3ο Tihiorace 2016\n \nανεπίσημα αποτελέσματα \nοι τερματισμοί συνεχίζονται\, τα αποτελέσματα θα ανανεώνονται. Μλεχρι τις 15.30 έχουν τερματίσει: \n50 ΧΙΛΙΟΜΕΤΡΑ \nRank\nGen-Sex-Cat Category Gender BIB Name YOB Club PART1 50KM FINISH 50KM\n1 \, 1 \,1\nΑ3 40-49 Male 65 ΦΑΝΗΣ ΑΡΚΟΥΜΑΝΗΣ – 4:36:02.650 5:44:13.193\n2 \, 2 \, 2 Α3 40-49 Male 18 ΑΛΕΞΑΝΔΡΟΣ ΚΑΜΠΟΥΡΟΠΟΥΛΟΣ 1974 ODLO / LA SPORTIVA 4:36:56.313 6:06:05.296\n3 \, 3 \, 1\nΑ2 30-39 Male 27 ΘΕΟΧΑΡΗΣ ΛΕΖΠΟΥΡΙΔΗΣ 1983 ADVENDURE 5:06:15.373 6:20:02.983\n4 \, 4 \, 2 Α2 30-39 Male 3 ΙΩΑΝΝΗΣ ΑΔΑΜΟΠΟΥΛΟΣ 1981 ΩΛΕΝΟΣ\, ΣΔΥ ΠΑΤΡΑΣ 5:43:52.290 7:09:10.500\n5 \, 5 \, 3 Α2 30-39 Male 48 ΜΙΛΤΙΑΔΗΣ ΣΑΓΜΑΤΟΠΟΥΛΟΣ 1983 ΟΛΥΜΠΙΑΚΟΣ 5:53:53.500 7:10:12.083\n6 \, 6 \, 3 Α3 40-49 Male 34 ΘΕΟΔΩΡΟΣ ΜΠΑΚΑΣ 1967 5:43:42.790 7:11:47.356\n7 \, 7 \, 4 Α2 30-39 Male 7 ΕΥΑΓΓΕΛΟΣ ΓΑΝΙΑΡΗΣ 1986 FLYING GEESE 5:52:58.276 7:15:21.540\n8 \, 8 \, 4 Α3 40-49 Male 64 ΔΗΜΗΤΡΙΟΣ ΖΙΑΜΠΑΡΑΣ – OLYMPUS MYTHICAL TRAIL 5:59:51.943 7:28:50.116\n9 \, 9 \, 5 Α2 30-39 Male 35 ΔΗΜΗΤΡΗΣ ΜΠΑΛΛΙΑΝ 1977 GO SPORT 6:05:36.673 7:30:32.306\n10 \, 10 \, 1\nΑ4 50-59 Male 39 ΚΩΝΣΤΑΝΤΙΝΟΣ ΝΙΚΟΛΑΚΟΠΟΥΛΟΣ 1965 6:04:28.080 7:37:21.373\n11 \, 11 \, 1\nΑ1 18-29 Male 40 ΠΑΝΑΓΙΩΤΗΣ ΠΑΝΑΡΙΤΗΣ 1989 GOJI BERRY TEAM 6:18:36.153 7:41:08.576\n12 \, 12 \, 6 Α2 30-39 Male 53 ΔΗΜΗΤΡΗΣ ΣΟΥΛΕΛΕΣ 1984 ΑΝΕΞΑΡΤΗΤΟΣ 6:13:06.870 7:41:51.300\n13 \, 1 \,1\nΓ2 30-39 Female 1 JO MANTA 1977 ALLTERRAINRUNNERS/GREEPERLACES 6:13:00.286 7:43:17.593\n14 \, 13 \, 7 Α2 30-39 Male 47 ΧΡΥΣΟΣΤΟΜΟΣ ΡΟΚΑΣ 1978 URBAN TRAIL RUNNERS 6:10:04.160 7:43:18.653\n15 \, 14 \, 1\nΑ5 60+ Male 44 ΔΙΟΝΥΣΗΣ ΠΑΣΤΡΑΣ 1954 ΚΟΥΦΕΤΟ RUNNING TEAM 6:18:38.946 7:50:44.330 \n27 ΧΙΛΙΟΜΕΤΡΑ \nRank\nGen-Sex-Cat Category Gender BIB Name YOB Club PART1 27KM FINISH 27KM\n1 \, 1 \,1\nΑ2 30-39 Male 413 ΔΗΜΗΤΡΗΣ ΘΕΟΔΩΡΑΚΑΚΟΣ – 1:53:11.057 2:32:33.820\n2 \, 2 \, 2 Α2 30-39 Male 324 ΓΙΩΡΓΟΣ ΔΙΑΛΕΚΤΟΣ – 1:53:17.437 2:50:57.883\n3 \, 3 \, 3 Α2 30-39 Male 416 ΝΙΚΟΛΑΟΣ ΡΟΔΟΠΟΥΛΟΣ – 1:53:24.397 3:04:00.810\n4 \, 4 \, 4 Α2 30-39 Male 334 ΚΥΡΙΑΚΟΣ ΚΑΡΛΟΣ 1980 1:57:02.900 3:04:06.553\n5 \, 5 \, 1\nΑ4 50-59 Male 344 ΝΙΚΟΣ ΚΩΣΤΟΠΟΥΛΟΣ 1965 SALOMON HELLAS 1:57:46.657 3:04:55.987\n6 \, 6 \, 1\nΑ1 18-29 Male 323 ΘΕΟΔΩΡΟΣ ΔΗΜΗΤΡΑΚΑΚΗΣ 1990 ΣΑΠΠΑΖ 1:59:30.867 3:10:06.430\n7 \, 7 \, 5 Α2 30-39 Male 404 ΝΙΚΟΣ ΧΑΡΜΠΙΛΑΣ 1977 TECNICA 1:59:18.837 3:11:49.737\n8 \, 8 \, 1\nΑ3 40-49 Male 338 ΓΙΑΝΝΗΣ ΚΟΝΤΟΣ 1974 PNEUMONOLOGY.COM 2:05:54.027 3:15:24.867\n9 \, 9 \, 2 Α3 40-49 Male 302 SYLVAIN GOBEL 1968 BIKES SYLVAIN PREVEZA 2:00:31.560 3:19:03.057\n10 \, 10 \, 3 Α3 40-49 Male 419 ΔΗΜΗΤΡΗΣ ΚΟΝΟΜΗ – 2:00:31.170 3:20:55.697\n11 \, 11 \, 6 Α2 30-39 Male 368 ΚΩΣΤΑΣ ΞΕΝΟΣ – 3Π 2:04:43.500 3:24:40.927\n12 \, 1 \,1\nΓ1 18-29 Female 351 ΜΑΡΙΑ ΜΑΛΑΙ – 2:11:42.377 3:33:37.927\n13 \, 12 \, 7 Α2 30-39 Male 362 ΓΙΩΡΓΟΣ ΜΥΖΑΛΗΣ 1978 MYATHLETE 2:19:33.513 3:33:42.427\n14 \, 13 \, 4 Α3 40-49 Male 331 ΜΑΝΩΛΗΣ ΚΑΡΑΔΗΜΗΤΡΙΟΥ 1972 SKOULIS TEAM 2:19:26.477 3:37:35.487\n15 \, 14 \, 8 Α2 30-39 Male 421 ΦΩΤΗΣ ΑΝΤΩΝΟΠΟΥΛΟΣ – 2:19:35.150 3:41:52.737\n16 \, 15 \, 2 Α4 50-59 Male 373 ΔΙΟΝΥΣΗΣ ΠΑΠΑΔΑΤΟΣ 1962 FREE RUNNERS 2:23:54.707 3:42:35.710\n17 \, 16 \, 5 Α3 40-49 Male 375 ΧΡΗΣΤΟΣ ΠΑΠΠΑΣ 1973 ΕΟΣ ΑΓΡΙΝΙΟΥ 2:23:43.330 3:50:01.250\n18 \, 17 \, 9 Α2 30-39 Male 304 XHINI HODAJ 1981 FREE RUNNERS 2:12:33.187 3:54:09.190\n19 \, 18 \, 10 Α2 30-39 Male 391 ΒΛΑΔΙΜΗΡΟΣ ΣΟΥΜΠΑΣΗΣ 1977 ΑΝΕΞΑΡΤΗΤΟΣ 2:25:04.093 3:54:50.307\n20 \, 19 \, 11 Α2 30-39 Male 417 ΕΠΑΜΕΙΝΩΝΔΑΣ ΤΣΑΚΑΛΩΓΙΑΝΝΗΣ – 2:29:55.457 3:54:58.737\n21 \, 20 \, 6 Α3 40-49 Male 342 ΑΡΗΣ ΚΟΥΤΣΟΥΜΠΕΛΙΤΗΣ – ΕΡΜΗΣ ΑΙΓΙΑΛΕΙΑΣ 2:25:02.627 3:57:18.427\n22 \, 21 \, 3 Α4 50-59 Male 422 ΑΡΙΣΤΟΤΕΛΗΣ ΔΙΛΙΝΤΑΣ – 2:28:01.917 3:58:38.487\n23 \, 22 \, 7 Α3 40-49 Male 423 ΑΝΔΡΙΑΝΟΣ ΚΡΟΥΜΠΟΥΖΟΣ – 2:32:09.990 3:58:57.117\n24 \, 23 \, 8 Α3 40-49 Male 399 ΑΠΟΣΤΟΛΟΣ ΤΣΟΥΚΑΛΑΣ 1971 TEAM KOUMPAROI 2:32:04.110 3:59:52.737\n25 \, 24 \, 9 Α3 40-49 Male 330 ΗΛΙΑΣ ΚΑΠΟΓΛΗΣ 1971 YMITTOS RUNNERS 2:31:47.400 4:01:35.047\n26 \, 25 \, 12 Α2 30-39 Male 317 ΚΩΝΣΤΑΝΤΙΝΟΣ ΓΚΟΥΣΑΡΗΣ 1985 GOJI BERRY TEAM/ DEREKAS ENDURANCE COACHING 2:32:01.270 4:01:39.767\n27 \, 2 \, 1\nΓ2 30-39 Female 358 ΑΛΕΞΑΝΔΡΑ ΜΠΑΡΔΑΚΙ 1986 ΣΥΛΛΟΓΟΣ ΔΡΟΜΕΩΝ ΥΓΕΙΑΣ ΠΑΤΡΑΣ 2:28:21.060 4:01:50.617\n28 \, 26 \, 4 Α4 50-59 Male 306 ΔΗΜΗΤΡΙΟΣ ΑΘΑΝΑΣΟΠΟΥΛΟΣ 1963 2:27:51.310 4:02:28.487\n29 \, 27 \, 13 Α2 30-39 Male 335 ΘΕΟΔΩΡΟΣ ΔΙΟΝΥΣΙΟΣ ΚΑΤΣΙΩΠΗΣ 1981 2:33:43.060 4:02:45.397\n30 \, 28 \, 1\nALL Male 424 NONAME_2015 ΩΩ__27KM_36 – 2:34:26.663 4:03:04.557\n31 \, 29 \, 14 Α2 30-39 Male 383 ΑΝΔΡΕΑΣ ΡΗΓΑΣ 1979 MYATHLETE 2:29:32.697 4:04:40.537\n32 \, 30 \, 10 Α3 40-49 Male 405 ΚΩΝΣΤΑΝΤΙΝΟΣ ΧΑΤΖΗΘΩΜΑΟΓΛΟΥ 1973 GR RUNNERS 2:30:53.677 4:05:15.037\n33 \, 31 \, 15 Α2 30-39 Male 407 ΙΩΣΗΦ ΧΡΙΣΤΑΚΗΣ 1984 ΧΑΜΟΣ 2:37:49.383 4:07:20.537\n34 \, 32 \, 5 Α4 50-59 Male 307 ΔΗΜΗΤΡΗΣ ΑΝΔΡΙΟΠΟΥΛΟΣ 1961 RUNNER STORE TRAIL TEAM 2:38:09.353 4:10:40.807\n35 \, 33 \, 6 Α4 50-59 Male 385 ΘΩΜΑΣ ΡΟΥΜΠΑΣ – GO SPORTS 2:32:19.850 4:12:25.977\n36 \, 34 \, 7 Α4 50-59 Male 395 ΧΡΗΣΤΟΣ ΤΑΣΟΥΛΑΣ 1963 BIKES SYLVAIN PREVEZA 2:38:10.630 4:12:56.987\n37 \, 35 \, 11 Α3 40-49 Male 355 ΗΛΙΑΣ ΜΑΤΖΟΥΚΗΣ 1974 SNAILS TEAM 2:39:41.503 4:13:39.850\n38 \, 36 \, 1\nΑ5 60+ Male 392 ΣΤΕΦΑΝΟΣ ΣΤΑΜΕΛΛΟΣ 1954 ΤΡΑΧΙΝΑ ΛΑΜΙΑΣ 2:35:00.483 4:14:02.927\n39 \, 37 \, 16 Α2 30-39 Male 340 ΦΩΤΗΣ ΚΟΥΛΗΣ 1979 LEPANTO 2:31:50.647 4:14:32.997\n40 \, 3 \, 1\nΓ3 40-49 Female 301 TRUDI EMILIANOU 1969 SKY WOMEN RUNNING TEAM 2:39:31.347 4:14:50.343\n41 \, 38 \, 17 Α2 30-39 Male 328 ΖΑΡΚΑΔΑΣ ΙΩΑΝΝΗΣ – ΕΡΜΗΣ ΑΙΓΙΑΛΕΙΑΣ 2:30:55.250 4:18:51.033\n42 \, 4 \, 2 Γ3 40-49 Female 336 ΠΑΝΑΓΙΩΤΑ ΚΑΤΣΩΡΧΗ 1976 DRC 2:48:57.830 4:19:27.197\n43 \, 39 \, 18 Α2 30-39 Male 412 ΔΗΜΗΤΡΗΣ ΓΕΩΡΓΑΝΤΟΠΟΥΛΟΣ – 2:43:33.897 4:19:27.697\n44 \, 5 \, 3 Γ3 40-49 Female 311 ΟΛΓΑ ΒΑΡΤΖΙΩΤΗ 1974 PNEUMONOLOGY.COM 2:50:44.377 4:19:33.663\n45 \, 40 \, 19 Α2 30-39 Male 327 ΠΑΝΑΓΙΩΤΗΣ ΘΕΟΧΑΡΗΣ 1978 ΑΤΟΜΙΚΟ 2:44:04.737 4:20:07.637\n46 \, 41 \, 12 Α3 40-49 Male 388 ΚΩΣΤΑΣ ΣΕΛΕΒΙΣΤΑΣ 1973 ΕΟΣ ΑΓΡΙΝΙΟΥ 2:43:15.427 4:20:38.187\n47 \, 42 \, 20 Α2 30-39 Male 402 ΑΝΤΩΝΗΣ ΦΟΥΣΕΚΗΣ 1978 URBAN TRAIL RUNNERS 2:43:57.873 4:22:24.627\n48 \, 43 \, 21 Α2 30-39 Male 333 ΚΩΣΤΑΣ ΚΑΡΑΠΑΝΟΣ 1983 ΑΝΕΞΑΡΤΗΤΟΣ 2:38:27.557 4:22:54.377\n49 \, 44 \, 8 Α4 50-59 Male 371 ΠΑΝΟΣ ΠΑΝΑΓΙΩΤΙΔΗΣ 1966 2:50:34.987 4:26:50.257\n50 \, 45 \, 2 Α1 18-29 Male 382 ΑΛΕΞΗΣ ΡΕΣΣΟΣ – ΕΡΜΗΣ ΑΙΓΙΑΛΕΙΑΣ 2:43:37.313 4:27:03.490\n51 \, 46 \, 9 Α4 50-59 Male 370 ΙΩΑΝΝΗ ΟΙΚΟΝΟΜΟΥ 1966 2:44:01.540 4:27:55.067\n52 \, 47 \, 13 Α3 40-49 Male 332 ΔΙΟΝΥΣΗΣ ΚΑΡΑΙΣΚΑΚΗΣ 1967 ΣΕΟ ΠΑΤΡΑΣ ΩΛΕΝΟΣ 2:46:53.687 4:30:17.397\n53 \, 48 \, 14 Α3 40-49 Male 366 ΘΩΜΑΣ ΝΤΕΛΛΟΣ 1967 ΑΘΗΝΑΙΟΙ ΔΡΟΜΕΙΣ 2:45:55.933 4:30:36.277\n54 \, 49 \, 22 Α2 30-39 Male 348 ΙΩΑΝΝΗΣ ΛΟΥΚΟΣ 1979 ΦΑΠΕΡΛΕ 2:48:40.280 4:33:32.647\n55 \, 50 \, 10 Α4 50-59 Male 378 ΔΙΟΝΥΣΗΣ ΠΑΤΡΙΚΙΟΣ 1960 FREE RUNNERS 2:42:54.943 4:34:40.580\n56 \, 51 \, 23 Α2 30-39 Male 420 ΒΑΣΙΛΗΣ ΜΑΝΕΤΑΣ – 2:43:05.737 4:34:41.150\n57 \, 6 \, 2 Γ2 30-39 Female 389 ΧΡΙΣΤΙΝΑ ΣΙΔΕΡΗ 1980 ΑΝΕΞΑΡΤΗΤΗ 2:56:21.197 4:35:02.217\n58 \, 52 \, 24 Α2 30-39 Male 365 ΑΝΤΩΝΗΣ ΝΤΑΣΙΟΣ – 2:41:23.743 4:35:09.020\n59 \, 53 \, 15 Α3 40-49 Male 343 ΑΛΕΞΑΝΔΡΟΣ ΚΡΗΤΙΚΑΚΗΣ 1974 2:44:08.170 4:38:03.917\n60 \, 54 \, 16 Α3 40-49 Male 380 ΚΩΝΣΤΑΝΤΙΝΟΣ ΠΗΛΙΓΚΟΣ 1974 2:44:54.127 4:39:40.977\n61 \, 55 \, 17 Α3 40-49 Male 316 ΙΩΑΝΝΗΣ ΓΚΙΟΚΑΣ 1975 SNAILS TEAM 2:38:14.797 4:39:43.977\n62 \, 56 \, 18 Α3 40-49 Male 398 ΚΩΝΣΤΑΝΤΙΝΟΣ ΤΣΙΡΟΠΟΥΛΑΣ 1969 ΑΚΟΛ 3:01:14.120 4:44:34.083\n63 \, 57 \, 19 Α3 40-49 Male 377 ΒΑΣΙΛΗΣ ΠΑΤΕΛΗΣ 1970 YMITTOS RUNNERS 2:51:36.687 4:45:05.327\n64 \, 7 \, 3 Γ2 30-39 Female 387 ΜΑΡΙΑΝΝΑ ΣΕΚΙΟΥ 1978 IPSHOP TEAM 3:00:57.867 4:45:35.707\n65 \, 58 \, 25 Α2 30-39 Male 357 ΙΩΑΝΝΗΣ ΜΟΖΑΣ 1978 ΑΝΕΞΑΡΤΗΤΟΣ 3:00:54.480 4:47:26.877\n66 \, 59 \, 20 Α3 40-49 Male 381 ΒΑΣΙΛΗΣ ΠΙΠΕΡΗΣ 1968 Α.Π.Σ.ΜΙΛΤΙΑΔΗ ΜΑΡΑΘΩΝΑ 2:46:44.030 4:48:51.377\n67 \, 60 \, 21 Α3 40-49 Male 329 ΘΕΟΧΑΡΗΣ ΚΑΝΑΚΗΣ – ON TRAIL 2:51:45.267 4:50:53.067\n68 \, 61 \, 22 Α3 40-49 Male 339 ΙΩΑΝΝΗΣ ΚΟΡΟΒΕΖΗΣ 1971 2:54:13.917 4:51:40.943\n69 \, 62 \, 23 Α3 40-49 Male 305 ZAK KLIPFEL 1971 3:03:23.210 4:52:20.133\n70 \, 63 \, 24 Α3 40-49 Male 356 ΘΕΟΦΙΛΟΣ ΜΟΖΑΣ 1975 ΑΝΕΞΑΡΤΗΤΟΣ 3:00:54.027 4:55:28.763\n71 \, 64 \, 11 Α4 50-59 Male 408 ΝΤΕΝΗΣ ΧΡΙΣΤΟΔΟΥΛΑΤΟΣ 1956 CANDO SPORTS MASSAGE 2:39:30.083 4:55:30.523\n72 \, 8 \, 4 Γ2 30-39 Female 406 ΚΑΤΕΡΙΝΑ ΧΑΤΖΗΝΙΚΟΛΑΟΥ 1985 ΣΥΛΛΟΓΟΣ ΔΡΟΜΕΩΝ ΥΓΕΙΑΣ ΕΛΕΥΣΙΝΑΣ 3:03:46.843 4:56:10.683\n73 \, 65 \, 25 Α3 40-49 Male 397 ΚΩΝΣΤΑΝΤΙΝΟΣ ΤΣΙΝΤΖΟΣ 1970 ΣΑΠΠΑΖ 3:03:46.110 4:59:54.083\n74 \, 66 \, 26 Α3 40-49 Male 345 ΓΕΩΡΓΙΟΣ ΛΟΗΣ – ΣΑΠΠΑΖ 3:03:47.873 4:59:58.317\n75 \, 67 \, 27 Α3 40-49 Male 346 ΙΩΑΝΝΗΣ ΛΟΚΗΣ 1972 FREE RUNNERS 3:16:13.260 5:01:36.523\n76 \, 9 \, 4 Γ3 40-49 Female 308 ΚΥΡΙΑΚΗ ΑΞΑΡΛΗ 1969 FREE RUNNERS 3:15:32.077 5:01:36.583\n77 \, 68 \, 26 Α2 30-39 Male 363 ΠΑΝΑΓΙΩΤΗΣ ΝΑΣΗΣ 1977 3:15:21.077 5:03:44.177\n78 \, 69 \, 27 Α2 30-39 Male 396 KΩΝΣΤΑΝΤΙΝΟΣ ΤΣΑΜΗΣ 1977 3:15:22.670 5:03:44.520\n79 \, 70 \, 28 Α2 30-39 Male 310 ΟΜΗΡΟΣ ΑΣΛΑΝΙΔΗΣ 1980 ΜΟΛΩΝ ΛΑΒΕ 3:11:29.167 5:03:50.140\n80 \, 10 \, 1\nΓ4 50-59 Female 400 ΑΝΑΣΤΑΣΙΑ ΤΣΟΥΜΠΟΥ 1966 3:05:38.510 5:03:53.773\n81 \, 71 \, 12 Α4 50-59 Male 337 ΑΝΔΡΕΑΣ ΚΟΙΤΣΑΝΟΣ – 3:11:45.187 5:06:03.643\n82 \, 72 \, 28 Α3 40-49 Male 319 ΧΑΡΑΛΑΜΠΟΣ ΓΟΥΣΗΣ 1969 TEAMPORARY 3:11:23.037 5:09:29.377\n83 \, 73 \, 29 Α2 30-39 Male 369 ΕΥΑΓΓΕΛΟΣ ΟΙΚΟΝΟΜΟΠΟΥΛΟΣ 1977 3:08:49.877 5:12:10.990 \n15 ΧΙΛΙΟΜΕΤΡΑ \nRank\nGen-Sex-Cat Category Gender BIB Name YOB Club FINISH 15KM\n1 \, 1 \,1\nΑ3 40-49 Male 701 ΙΩΑΝΝΗΣ ΣΤΑΜΑΤΟΠΟΥΛΟΣ – 1:27:20.283\n2 \, 2 \, 2 Α3 40-49 Male 682 ΜΙΧΑΛΗΣ ΦΩΤΕΙΝΟΣ 1973 1:32:28.256\n3 \, 3 \, 3 Α3 40-49 Male 688 ΑΛΕΞΑΝΔΡΟΣ ΓΙΩΤΗΣ – 1:38:07.240\n4 \, 4 \, 4 Α3 40-49 Male 669 ΓΙΩΡΓΟΣ ΠΑΠΑΘΑΝΑΣΙΟΥ 1967 ΒΟΙΩΤΟΙ ΗΜΕΡΟΔΡΟΜΟΙ 1:43:03.056\n5 \, 5 \, 1\nΑ2 30-39 Male 620 ΓΙΩΡΓΟΣ ΓΚΙΚΑΣ 1985 ΑΝΕΞΑΡΤΗΤΟΣ 1:45:27.430\n6 \, 1 \,1\nΓ3 40-49 Female 605 ΘΕΟΔΩΡΑ ΑΝΑΣΤΑΣΙΑΔΗ 1973 3Π – ΣΔΥΠ 1:46:37.173\n7 \, 6 \, 1\nΑ1 18-29 Male 698 ΓΙΩΡΓΟΣ ΑΘΑΝΑΣΟΠΟΥΛΟΣ – 1:46:49.130\n8 \, 7 \, 5 Α3 40-49 Male 629 ΠΑΝΑΓΙΩΤΗΣ ΕΥΘΥΜΙΟΥ 1974 SNAILS TEAM 1:47:29.680\n9 \, 8 \, 1\nΑ4 50-59 Male 624 ΓΕΩΡΓΙΟΣ ΔΗΜΟΣ 1962 1:48:30.930\n10 \, 9 \, 2 Α2 30-39 Male 658 ΚΩΝΣΤΑΝΤΙΝΟΣ ΜΠΟΥΜΗΣ 1980 ΠΟΛΙΤΙΣΤΙΚΗ ΔΡΑΣΗ Δ.Ε. ΒΡΑΧΝΑΙΙΚΩΝ 1:49:01.556\n11 \, 10 \, 6 Α3 40-49 Male 661 ΑΓΓΕΛΟΣ ΝΙΚΟΛΟΠΟΥΛΟΣ 1976 1:49:08.870\n12 \, 11 \, 7 Α3 40-49 Male 643 ΝΙΚΟΛΑΟΣ ΚΟΝΤΟΓΙΑΝΝΗΣ 1971 ΑΝΕΞΑΡΤΗΤΟΣ 1:49:18.426\n13 \, 12 \, 8 Α3 40-49 Male 700 ΚΩΝΣΤΑΝΤΙΝΟΣ ΧΡΙΣΤΟΔΟΥΛΟΠΟΥΛΟΣ – 1:51:13.440\n14 \, 13 \, 3 Α2 30-39 Male 623 ΜΙΧΑΗΛ ΔΗΜΗΤΡΟΠΟΥΛΟΣ 1977 LEPANTO 1:52:27.746\n15 \, 14 \, 4 Α2 30-39 Male 635 ΝΙΚΟΛΑΟΣ ΚΑΠΕΝΤΖΩΝΗΣ 1984 LEPANTO RUNNERS 1:54:11.120\n16 \, 15 \, 5 Α2 30-39 Male 656 ΚΩΝΣΤΑΝΤΙΝΟΣ ΜΠΕΣΣΑΣ 1978 LEPANTO RUNNERS 1:55:56.430\n17 \, 2 \, 1\nΓ2 30-39 Female 636 ΑΝΘΟΥΛΑ ΚΑΡΑΜΠΙΝΗ 1977 PAN-CAR 1:56:01.176\n18 \, 16 \, 6 Α2 30-39 Male 683 ΝΙΚΟΛΑΟΣ ΧΟΥΧΟΥΜΗΣ 1980 FREE RUNNERS 2:01:07.263\n19 \, 17 \, 9 Α3 40-49 Male 652 ΚΩΣΤΑΣ ΜΑΤΣΟΥΚΑΣ 1971 ΓΥΜΝΑΣΤΙΚΗ ΕΤΑΙΡΙΑ ΑΓΡΙΝΙΟΥ 2:01:43.060\n20 \, 3 \, 2 Γ2 30-39 Female 692 ΕΥΧΑΡΙΣ ΚΑΣΕΓΙΑ – 2:01:56.256\n21 \, 18 \, 2 Α1 18-29 Male 691 ΧΡΙΣΤΟΦΟΡΟΣ ΔΗΜΟΠΟΥΛΟΣ – 2:02:08.026\n22 \, 19 \, 3 Α1 18-29 Male 686 ΔΗΜΗΤΡΙΟΣ ΨΥΧΟΓΙΟΣ 1988 2:02:37.906\n23 \, 20 \, 10 Α3 40-49 Male 614 ΒΑΣΙΛΗΣ ΒΡΟΥΖΑΣ – 2:02:50.196\n24 \, 21 \, 4 Α1 18-29 Male 705 ΕΛΕΥΘΕΡΙΟΣ ΣΤΑΥΡΟΠΟΥΛΟΣ – 2:03:03.446\n25 \, 22 \, 11 Α3 40-49 Male 650 ΣΩΤΗΡΗΣ ΜΑΝΟΥΔΑΚΗΣ 1968 3Π 2:03:53.820\n26 \, 23 \, 12 Α3 40-49 Male 628 ΔΗΜΟΣ ΕΥΘΥΜΙΟΥ 1975 3Π 2:04:13.086\n27 \, 24 \, 7 Α2 30-39 Male 674 ΕΠΑΜΕΙΝΩΝΔΑΣ ΣΑΚΕΛΛΙΟΥ 1980 ΑΝΕΞΑΡΤΗΤΟΣ 2:04:23.200\n28 \, 4 \, 2 Γ3 40-49 Female 622 ΑΓΑΠΗ ΔΗΜΑΚΟΠΟΥΛΟΥ 1976 2:05:28.570\n29 \, 25 \, 8 Α2 30-39 Male 670 ΕΥΘΥΜΙΟΣ ΠΑΡΔΑΛΗΣ 1982 ΣΥΛΛΟΓΟΣ ΔΡΟΜΕΩΝ ΥΓΕΙΑΣ ΑΓΡΙΝΙΟΥ 2:06:42.386\n30 \, 26 \, 5 Α1 18-29 Male 649 ΔΗΜΗΤΡΗΣ ΜΑΝΔΕΛΛΟΣ 1988 ΓΥΜΝΑΣΤΙΚΗ ΕΤΑΙΡΕΙΑ ΑΓΡΙΝΙΟΥ 2:06:51.256\n31 \, 27 \, 13 Α3 40-49 Male 687 ΑΛΕΞΑΝΔΡΟΣ ΓΙΩΤΗΣ – 2:06:58.736\n32 \, 28 \, 1\nΑ5 60+ Male 647 ΒΑΣΙΛΕΙΟΣ ΛΑΓΙΟΣ 1954 ΠΟΛΙΤΙΣΤΙΚΗ ΔΡΑΣΗ Δ.Ε. ΒΡΑΧΝΑΙΙΚΩΝ 2:08:40.566\n33 \, 29 \, 14 Α3 40-49 Male 677 ΔΗΜΗΤΡΗΣ ΣΙΝΗΣ 1968 LEPANTO 2:09:26.386\n34 \, 30 \, 2 Α5 60+ Male 625 ΓΕΩΡΓΙΟΣ ΔΟΥΝΗΣ 1955 LEPANTORUNNERS 2:09:44.333\n35 \, 5 \, 3 Γ3 40-49 Female 689 ΜΑΡΙΝΑ ΤΕΡΖΗ – 2:10:20.260\n36 \, 6 \, 3 Γ2 30-39 Female 706 ΧΡΙΣΤΙΝΑ RIGHTWEISER – 2:11:36.820\n37 \, 7 \, 4 Γ2 30-39 Female 631 ΝΕΚΤΑΡΙΑ ΚΑΒΟΥΡΑ 1977 ΕΟΣ ΑΓΡΙΝΙΟΥ 2:11:37.066\n38 \, 31 \, 15 Α3 40-49 Male 659 ΘΟΔΩΡΗΣ ΜΠΡΙΑΝΗΣ 1968 YMITTOS RUNNERS 2:12:21.450\n39 \, 32 \, 16 Α3 40-49 Male 709 ΔΗΜΗΤΡΗΣ ΑΝΕΖΙΡΗΣ – 2:12:24.266\n40 \, 33 \, 2 Α4 50-59 Male 638 ΠΕΤΡΟΣ ΚΑΤΣΑΒΗΣ 1960 2:13:10.446\n41 \, 8 \, 5 Γ2 30-39 Female 667 ΕΛΛΗ ΠΑΞΙΝΟΥ 1986 2:13:18.636\n42 \, 34 \, 3 Α4 50-59 Male 681 ΣΤΕΦΑΝΟΣ ΤΟΥΦΑΣ 1964 LEPANTORUNNERS 2:13:31.143\n43 \, 35 \, 4 Α4 50-59 Male 621 ΑΝΔΡΕΑΣ ΓΡΙΝΤΕΛΑΣ 1958 ΣΜΑΧ ΦΕΙΔΙΠΠΙΔΗΣ 2:15:07.070\n44 \, 9 \, 4 Γ3 40-49 Female 604 ΠΑΝΑΓΙΩΤΑ ΑΘΑΝΑΣΟΥΛΑ 1970 2:18:56.576\n45 \, 10 \, 6 Γ2 30-39 Female 627 ΕΛΕΝΗ ΕΞΑΡΧΟΥ 1977 RUNNER STORE 2:19:43.260\n46 \, 36 \, 17 Α3 40-49 Male 707 ΓΙΩΡΓΟΣ ΑΝΑΣΤΑΣΙΑΔΗΣ – 2:20:48.136\n47 \, 37 \, 5 Α4 50-59 Male 699 ΦΩΤΗΣ ΣΦΑΚΙΑΝΑΚΗΣ – 2:21:01.206\n48 \, 38 \, 9 Α2 30-39 Male 680 ΓΙΩΡΓΟΣ ΤΕΤΣΙΟΣ 1977 2:21:54.520\n49 \, 11 \, 7 Γ2 30-39 Female 641 ΚΩΝΣΤΑΝΤΙΝΑ ΚΟΛΙΟΔΕΔΕ 1980 LEPANTO 2:24:16.136\n50 \, 12 \, 8 Γ2 30-39 Female 608 ΙΩΑΝΝΑ ΑΝΤΩΝΟΠΟΥΛΟΥ 1985 ΣΥΛΛΟΓΟΣ ΔΡΟΜΕΩΝ ΥΓΕΙΑΣ ΑΓΡΙΝΙΟΥ 2:24:16.266\n51 \, 39 \, 18 Α3 40-49 Male 655 ΙΩΑΝΝΗΣ ΜΠΕΚΟΣ 1976 LEPANTORUNNERS 2:24:16.443\n52 \, 40 \, 10 Α2 30-39 Male 637 ΓΙΩΡΓΟΣ ΚΑΡΕΛΛΗΣ – ΑΝΕΞΑΡΤΗΤΟΣ 2:24:16.526\n53 \, 41 \, 11 Α2 30-39 Male 693 ΜΑΡΙΝΟΣ ΛΕΚΕΑΣ – 2:24:42.260\n54 \, 13 \, 9 Γ2 30-39 Female 651 ΜΑΡΙΑ ΜΑΡΚΟΥΛΗ 1982 SKY WOMEN RUNNING TEAM 2:24:45.256\n55 \, 42 \, 12 Α2 30-39 Male 653 ΚΩΝΣΤΑΝΤΙΝΟΣ ΜΑΥΡΟΜΑΤΗΣ 1982 Σ.Δ.Υ.Ε 2:24:55.136\n56 \, 43 \, 13 Α2 30-39 Male 633 ΔΙΟΝΥΣΗΣ ΚΑΛΑΜΑΚΗΣ 1982 2:26:16.636\n57 \, 44 \, 6 Α1 18-29 Male 708 ΔΗΜΗΤΡΗΣ ΙΩΑΝΝΗΣ ΑΔΑΜ – 2:31:08.760\n58 \, 45 \, 6 Α4 50-59 Male 696 ΧΡΗΣΤΟΣ ΧΑΛΑΤΣΗΣ – LEPANTO 2:31:14.890\n59 \, 46 \, 19 Α3 40-49 Male 640 ΧΑΡΑΛΑΜΠΟΣ ΚΟΓΚΟΣ 1975 3Π 2:32:07.450\n60 \, 47 \, 7 Α4 50-59 Male 664 ΝΙΚΟΛΑΟΣ ΝΤΡΟΥΔΗΣ 1957 ΕΦΥΡΑΙΟΙ ΟΚΥΠΟΔΕΣ 2:32:07.470\n61 \, 48 \, 14 Α2 30-39 Male 632 ΑΝΑΣΤΑΣΙΟΣ ΚΑΛΑΪΤΖΙΔΗΣ 1977 2:35:49.340\n62 \, 49 \, 20 Α3 40-49 Male 695 ΑΡΗΣ ΣΟΥΦΛΗΣ – 2:37:39.590\n63 \, 50 \, 15 Α2 30-39 Male 618 ΔΗΜΗΤΡΙΟΣ ΓΙΩΤΣΟΠΟΥΛΟΣ 1983 2:39:26.836\n64 \, 14 \, 5 Γ3 40-49 Female 654 ΚΩΝΣΤΑΝΤΙΝΑ ΜΠΑΤΖΑΚΑ 1970 2:39:37.396\n65 \, 15 \, 10 Γ2 30-39 Female 675 ΜΕΛΙΣΣΑ ΑΝΝΑ ΣΕΛΕΒΙΣΤΑ 1984 ΟΡΕΙΒΑΤΙΚΟΣ ΣΥΛΛΟΓΟΣ ΑΓΡΙΝΙΟΥ 2:40:46.636\n66 \, 16 \, 6 Γ3 40-49 Female 603 ΜΑΡΙΛΕΝΑ ΑΘΑΝΑΣΙΑΔΗ 1971 MARATHON TEAM GREECE BY MARIA POLYZOU 2:41:35.386\n67 \, 51 \, 7 Α1 18-29 Male 663 ΒΑΣΙΛΗΣ ΝΤΟΤΣΙΚΑΣ 1990 2:42:17.820\n68 \, 52 \, 16 Α2 30-39 Male 678 ΠΑΝΟΣ ΣΤΑΜΕΛΟΣ 1981 ΑΝΕΞΑΡΤΗΤΟΣ 2:42:25.546\n69 \, 53 \, 1\nALL Male 657 ΝΙΚΟΛΑΟΣ ΜΠΙΤΣΙΚΩΚΟΣ – ΑΝΕΞΑΡΤΗΤΟΣ 2:43:19.996\n70 \, 54 \, 17 Α2 30-39 Male 617 ΓΙΑΝΝΗΣ ΓΙΩΤΣΟΠΟΥΛΟΣ 1981 2:43:25.510\n71 \, 55 \, 8 Α4 50-59 Male 660 ΚΩΝΣΤΑΝΤΙΝΟΣ ΜΩΡΑΙΤΙΣ 1965 NOT 2:44:46.010\n72 \, 17 \, 11 Γ2 30-39 Female 690 ΚΑΛΛΙΟΠΗ ΔΗΜΑ – 2:49:27.276\n73 \, 56 \, 9 Α4 50-59 Male 609 ΝΙΚΟΣ ΑΡΒΑΝΙΤΗΣ 1961 2:53:01.950\n74 \, 57 \, 3 Α5 60+ Male 606 ΠΕΡΙΚΛΗΣ ΑΝΔΡΕΟΠΟΥΛΟΣ – 2:53:32.570\n75 \, 18 \, 1\nΓ1 18-29 Female 615 ΕΛΕΝΑ ΓΑΝΤΖΟΥ 1991 2:54:36.760\n76 \, 19 \, 2 Γ1 18-29 Female 616 ΚΑΤΕΡΙΝΑ ΓΙΑΝΝΟΥΛΗ 1988 2:55:13.820\n77 \, 58 \, 21 Α3 40-49 Male 619 ΧΑΡΙΣΙΟΣ ΓΚΑΝΑΤΣΙΟΣ 1969 2:55:14.450\n78 \, 20 \, 12 Γ2 30-39 Female 679 ΦΡΟΣΩ ΣΤΑΜΕΛΟΥ 1983 SKY WOMEN RUNNING TEAM 2:55:27.010\n79 \, 59 \, 18 Α2 30-39 Male 671 ΗΛΙΑΣ ΠΕΤΡΟΠΟΥΛΟΣ 1984 2:55:41.006\n80 \, 60 \, 19 Α2 30-39 Male 684 ΓΕΩΡΓΙΟΣ ΧΡΥΣΙΚΟΣ 1980 2:55:41.200\n81 \, 61 \, 22 Α3 40-49 Male 602 ΣΠΥΡΙΔΩΝ ΑΔΑΜΟΠΟΥΛΟΣ – 2:56:53.510\n82 \, 62 \, 4 Α5 60+ Male 694 ΓΙΩΡΓΟΣ ΡΟΥΓΓΕΡΗΣ – 3:00:22.343\n83 \, 63 \, 23 Α3 40-49 Male 697 ΣΩΤΗΡΗΣ ΚΟΝΤΟΛΙΟΣ – 3:00:23.820\n84 \, 64 \, 8 Α1 18-29 Male 639 ΑΛΕΞΑΝΔΡΟΣ ΚΑΤΣΟΥΛΗΣ 1991 3:02:18.140\n85 \, 21 \, 13 Γ2 30-39 Female 612 ΧΡΙΣΤΙΝΑ ΑΡΟΡΑ 1986 3:03:19.390\n86 \, 65 \, 20 Α2 30-39 Male 668 ΓΕΩΡΓΙΟΣ ΠΑΠΑΓΕΩΡΓΙΟΥ 1978 FREE RUNNERS 3:03:55.696\n87 \, 66 \, 10 Α4 50-59 Male 703 ΑΝΔΡΕΑΣ ΝΤΙΝΟΣ – 3:07:01.140\n88 \, 67 \, 11 Α4 50-59 Male 704 ΘΩΜΑΣ ΜΩΡΑΙΤΗΣ – 3:07:03.826\n89 \, 68 \, 12 Α4 50-59 Male 648 ΣΠΥΡΟΣ ΛΑΚΑΦΩΣΗΣ 1966 3:08:43.630\n90 \, 69 \, 3 Γ1 18-29 Male 702 ΜΑΡΙΑ ΦΙΛΙΑ – 3:21:28.270\n91 \, 70 \, 24 Α3 40-49 Male 672 ΑΘΑΝΑΣΙΟΣ ΠΟΡΤΕΛΑΝΟΣ 1972 ΜΟΝΟΣ 3:21:28.270\n92 \, 71 \, 9 Α1 18-29 Male 611 ΑΓΓΕΛΟΣ ΑΡΟΡΑ 1995 3:45:05.720\n93 \, 22 \, 14 Γ2 30-39 Female 607 ΚΕΦΑΛΛΗΝΟΥ ΑΝΔΡΙΑΝΗ – 5:08:57.310\n94 \, 23 \, 15 Γ2 30-39 Female 613 ΠΑΝΑΓΙΩΤΑ ΒΟΥΤΣΗ 1983 5:08:57.810
URL:https://gorun.gr/race/tihio-race/
CATEGORIES:Αποτελέσματα,Βουνό
END:VEVENT
END:VCALENDAR